BEGIN:VCALENDAR
VERSION:2.0
PRODID:-//Navigate Resource Center - ECPv6.15.17.1//NONSGML v1.0//EN
CALSCALE:GREGORIAN
METHOD:PUBLISH
X-WR-CALNAME:Navigate Resource Center
X-ORIGINAL-URL:https://www.wisconsin.edu/ss-eab-project
X-WR-CALDESC:Events for Navigate Resource Center
REFRESH-INTERVAL;VALUE=DURATION:PT1H
X-Robots-Tag:noindex
X-PUBLISHED-TTL:PT1H
BEGIN:VTIMEZONE
TZID:America/Chicago
BEGIN:DAYLIGHT
TZOFFSETFROM:-0600
TZOFFSETTO:-0500
TZNAME:CDT
DTSTART:20250309T080000
END:DAYLIGHT
BEGIN:STANDARD
TZOFFSETFROM:-0500
TZOFFSETTO:-0600
TZNAME:CST
DTSTART:20251102T070000
END:STANDARD
BEGIN:DAYLIGHT
TZOFFSETFROM:-0600
TZOFFSETTO:-0500
TZNAME:CDT
DTSTART:20260308T080000
END:DAYLIGHT
BEGIN:STANDARD
TZOFFSETFROM:-0500
TZOFFSETTO:-0600
TZNAME:CST
DTSTART:20261101T070000
END:STANDARD
BEGIN:DAYLIGHT
TZOFFSETFROM:-0600
TZOFFSETTO:-0500
TZNAME:CDT
DTSTART:20270314T080000
END:DAYLIGHT
BEGIN:STANDARD
TZOFFSETFROM:-0500
TZOFFSETTO:-0600
TZNAME:CST
DTSTART:20271107T070000
END:STANDARD
END:VTIMEZONE
BEGIN:VEVENT
DTSTART;TZID=America/Chicago:20260311T100000
DTEND;TZID=America/Chicago:20260311T110000
DTSTAMP:20260424T023902
CREATED:20260109T143136Z
LAST-MODIFIED:20260109T143136Z
UID:9749-1773223200-1773226800@www.wisconsin.edu
SUMMARY:Universities of Wisconsin App Admin March Community of Practice
DESCRIPTION:Navigate360 App Admins across UW universities\, as well as their colleagues interested in related content\, are invited to join the App Admin Community of Practice. \nThis is your session and opportunity to connect with colleagues from across the Universities of Wisconsin to share questions\, ideas\, and resources related to Navigate360. Send suggested agenda items\, including questions you have for your App Admin colleagues to Kristen Jasperson at kristen.jasperson@wisconsin.edu\, and contact her for the Zoom meeting details. \nMeetings typically are scheduled on the second Wednesday of the month from 10 a.m. to 11 a.m. Check Meetings (wisconsin.edu) to confirm\, as professional development opportunities\, holidays\, and other events may necessitate changes.
URL:https://www.wisconsin.edu/ss-eab-project/event/universities-of-wisconsin-app-admin-march-community-of-practice-3/
END:VEVENT
END:VCALENDAR