BEGIN:VCALENDAR
VERSION:2.0
PRODID:-//Board of Regents - ECPv6.15.17.1//NONSGML v1.0//EN
CALSCALE:GREGORIAN
METHOD:PUBLISH
X-ORIGINAL-URL:https://www.wisconsin.edu/regents
X-WR-CALDESC:Events for Board of Regents
REFRESH-INTERVAL;VALUE=DURATION:PT1H
X-Robots-Tag:noindex
X-PUBLISHED-TTL:PT1H
BEGIN:VTIMEZONE
TZID:America/Chicago
BEGIN:DAYLIGHT
TZOFFSETFROM:-0600
TZOFFSETTO:-0500
TZNAME:CDT
DTSTART:20250309T080000
END:DAYLIGHT
BEGIN:STANDARD
TZOFFSETFROM:-0500
TZOFFSETTO:-0600
TZNAME:CST
DTSTART:20251102T070000
END:STANDARD
BEGIN:DAYLIGHT
TZOFFSETFROM:-0600
TZOFFSETTO:-0500
TZNAME:CDT
DTSTART:20260308T080000
END:DAYLIGHT
BEGIN:STANDARD
TZOFFSETFROM:-0500
TZOFFSETTO:-0600
TZNAME:CST
DTSTART:20261101T070000
END:STANDARD
BEGIN:DAYLIGHT
TZOFFSETFROM:-0600
TZOFFSETTO:-0500
TZNAME:CDT
DTSTART:20270314T080000
END:DAYLIGHT
BEGIN:STANDARD
TZOFFSETFROM:-0500
TZOFFSETTO:-0600
TZNAME:CST
DTSTART:20271107T070000
END:STANDARD
END:VTIMEZONE
BEGIN:VEVENT
DTSTART;VALUE=DATE:20260205
DTEND;VALUE=DATE:20260207
DTSTAMP:20260421T155058
CREATED:20260202T185523Z
LAST-MODIFIED:20260202T205614Z
UID:28390-1770249600-1770422399@www.wisconsin.edu
SUMMARY:February 5-6\, 2026 Board of Regents Meeting
DESCRIPTION:February 5-6\, 2026 Board of Regents Meeting\nRegular meeting hosted by UW-Madison & via Zoom Videoconference \nAgenda & materials\nSchedule of Events & Combined Agendas (February 5-6\, 2026) pdf\n \n\nMeeting Book: UW System Board of Regents Meeting (February 5-6\, 2026) pdf\n\nMeeting Book: Business & Finance Committee (February 5\, 2026) pdf\n\nMeeting Book: Education Committee (February 5\, 2026) pdf\n\nMeeting Book: Audit\, Risk\, and Compliance Committee (February 5\, 2026) pdf\n\nMeeting Book: Capital Planning & Budget Committee (February 5\, 2026) pdf\n\n\nVideoconference Information\nZoom Videoconference Information
URL:https://www.wisconsin.edu/regents/event/february-5-6-2026-board-of-regents-meeting/
END:VEVENT
BEGIN:VEVENT
DTSTART;VALUE=DATE:20260210
DTEND;VALUE=DATE:20260211
DTSTAMP:20260421T155058
CREATED:20260206T205411Z
LAST-MODIFIED:20260206T205411Z
UID:28413-1770681600-1770767999@www.wisconsin.edu
SUMMARY:Special Regent Committee for the UW-Stevens Point Chancellor Search
DESCRIPTION:Meeting Notice: Special Regent Committee for the UW-Stevens Point Chancellor Search (February 10\, 2026) pdf
URL:https://www.wisconsin.edu/regents/event/special-regent-committee-for-the-uw-stevens-point-chancellor-search-5/
END:VEVENT
BEGIN:VEVENT
DTSTART;VALUE=DATE:20260216
DTEND;VALUE=DATE:20260220
DTSTAMP:20260421T155058
CREATED:20260212T185720Z
LAST-MODIFIED:20260212T185720Z
UID:28426-1771200000-1771545599@www.wisconsin.edu
SUMMARY:UW-Stevens Point Chancellor Search Finalist Public Forums
DESCRIPTION:Public Notice: UW-Stevens Point Chancellor Search Finalist Public Forums (February 16-19\, 2026) pdf
URL:https://www.wisconsin.edu/regents/event/uw-stevens-point-chancellor-search-finalist-public-forums/
END:VEVENT
BEGIN:VEVENT
DTSTART;VALUE=DATE:20260217
DTEND;VALUE=DATE:20260221
DTSTAMP:20260421T155058
CREATED:20260212T185758Z
LAST-MODIFIED:20260212T185758Z
UID:28428-1771286400-1771631999@www.wisconsin.edu
SUMMARY:Special Regent Committee for the UW-Stevens Point Chancellor Search
DESCRIPTION:Meeting Notice: Special Regent Committee for the UW-Stevens Point Chancellor Search (February 17-20\, 2026) pdf
URL:https://www.wisconsin.edu/regents/event/special-regent-committee-for-the-uw-stevens-point-chancellor-search-6/
END:VEVENT
BEGIN:VEVENT
DTSTART;VALUE=DATE:20260223
DTEND;VALUE=DATE:20260224
DTSTAMP:20260421T155058
CREATED:20260219T185226Z
LAST-MODIFIED:20260219T185226Z
UID:28433-1771804800-1771891199@www.wisconsin.edu
SUMMARY:UW-Eau Claire Chancellor Search & Screen Committee
DESCRIPTION:Meeting Notice: UW-Eau Claire Chancellor Search & Screen Committee (February 23\, 2026) pdf
URL:https://www.wisconsin.edu/regents/event/uw-eau-claire-chancellor-search-screen-committee-3/
END:VEVENT
BEGIN:VEVENT
DTSTART;VALUE=DATE:20260225
DTEND;VALUE=DATE:20260226
DTSTAMP:20260421T155058
CREATED:20260224T163307Z
LAST-MODIFIED:20260224T163307Z
UID:28441-1771977600-1772063999@www.wisconsin.edu
SUMMARY:Special Meeting of the Board of Regents
DESCRIPTION:February 25\, 2026 Special Board of Regents Meeting\nSpecial meeting hosted via Zoom Videoconference \nAgenda\nMeeting Notice: Special Board of Regents Meeting (February 25\, 2026) pdf\n \nVideoconference Information\n\nFebruary 25\, 2026\, Special Board of Regents Meeting
URL:https://www.wisconsin.edu/regents/event/special-meeting-of-the-board-of-regents-15/
END:VEVENT
END:VCALENDAR