BEGIN:VCALENDAR
VERSION:2.0
PRODID:-//Board of Regents - ECPv6.15.17.1//NONSGML v1.0//EN
CALSCALE:GREGORIAN
METHOD:PUBLISH
X-WR-CALNAME:Board of Regents
X-ORIGINAL-URL:https://www.wisconsin.edu/regents
X-WR-CALDESC:Events for Board of Regents
REFRESH-INTERVAL;VALUE=DURATION:PT1H
X-Robots-Tag:noindex
X-PUBLISHED-TTL:PT1H
BEGIN:VTIMEZONE
TZID:America/Chicago
BEGIN:DAYLIGHT
TZOFFSETFROM:-0600
TZOFFSETTO:-0500
TZNAME:CDT
DTSTART:20250309T080000
END:DAYLIGHT
BEGIN:STANDARD
TZOFFSETFROM:-0500
TZOFFSETTO:-0600
TZNAME:CST
DTSTART:20251102T070000
END:STANDARD
BEGIN:DAYLIGHT
TZOFFSETFROM:-0600
TZOFFSETTO:-0500
TZNAME:CDT
DTSTART:20260308T080000
END:DAYLIGHT
BEGIN:STANDARD
TZOFFSETFROM:-0500
TZOFFSETTO:-0600
TZNAME:CST
DTSTART:20261101T070000
END:STANDARD
BEGIN:DAYLIGHT
TZOFFSETFROM:-0600
TZOFFSETTO:-0500
TZNAME:CDT
DTSTART:20270314T080000
END:DAYLIGHT
BEGIN:STANDARD
TZOFFSETFROM:-0500
TZOFFSETTO:-0600
TZNAME:CST
DTSTART:20271107T070000
END:STANDARD
END:VTIMEZONE
BEGIN:VEVENT
DTSTART;VALUE=DATE:20260115
DTEND;VALUE=DATE:20260117
DTSTAMP:20260421T141520
CREATED:20260112T204624Z
LAST-MODIFIED:20260112T204624Z
UID:28335-1768435200-1768607999@www.wisconsin.edu
SUMMARY:UW-Stevens Point Chancellor Search & Screen Committee
DESCRIPTION:Meeting Notice: UW-Stevens Point Chancellor Search & Screen Committee (January 15-16\, 2026) pdf
URL:https://www.wisconsin.edu/regents/event/uw-stevens-point-chancellor-search-screen-committee-7/
END:VEVENT
BEGIN:VEVENT
DTSTART;VALUE=DATE:20260128
DTEND;VALUE=DATE:20260129
DTSTAMP:20260421T141520
CREATED:20260126T190236Z
LAST-MODIFIED:20260126T190236Z
UID:28375-1769558400-1769644799@www.wisconsin.edu
SUMMARY:Special Meeting of the Board of Regents
DESCRIPTION:January 28\, 2026 Special Board of Regents Meeting\nRegular meeting hosted via Zoom Videoconference \nAgenda & materials\nMeeting Notice: Special Board of Regents Meeting (January 28\, 2026) pdf\n \n\nMeeting Book: Special Meeting of the Board of Regents (January 28\, 2026) pdf\n\n\nVideoconference Information\n\nBoard of Regents Zoom Videoconference Details
URL:https://www.wisconsin.edu/regents/event/special-meeting-of-the-board-of-regents-14/
END:VEVENT
BEGIN:VEVENT
DTSTART;VALUE=DATE:20260129
DTEND;VALUE=DATE:20260130
DTSTAMP:20260421T141520
CREATED:20260126T190310Z
LAST-MODIFIED:20260126T190310Z
UID:28377-1769644800-1769731199@www.wisconsin.edu
SUMMARY:UW-Eau Claire Chancellor Search & Screen Committee
DESCRIPTION:Meeting Notice: UW-Eau Claire Chancellor Search & Screen Committee (January 29\, 2026) pdf
URL:https://www.wisconsin.edu/regents/event/uw-eau-claire-chancellor-search-screen-committee-2/
END:VEVENT
END:VCALENDAR