BEGIN:VCALENDAR
VERSION:2.0
PRODID:-//Board of Regents - ECPv6.15.17.1//NONSGML v1.0//EN
CALSCALE:GREGORIAN
METHOD:PUBLISH
X-WR-CALNAME:Board of Regents
X-ORIGINAL-URL:https://www.wisconsin.edu/regents
X-WR-CALDESC:Events for Board of Regents
REFRESH-INTERVAL;VALUE=DURATION:PT1H
X-Robots-Tag:noindex
X-PUBLISHED-TTL:PT1H
BEGIN:VTIMEZONE
TZID:America/Chicago
BEGIN:DAYLIGHT
TZOFFSETFROM:-0600
TZOFFSETTO:-0500
TZNAME:CDT
DTSTART:20240310T080000
END:DAYLIGHT
BEGIN:STANDARD
TZOFFSETFROM:-0500
TZOFFSETTO:-0600
TZNAME:CST
DTSTART:20241103T070000
END:STANDARD
BEGIN:DAYLIGHT
TZOFFSETFROM:-0600
TZOFFSETTO:-0500
TZNAME:CDT
DTSTART:20250309T080000
END:DAYLIGHT
BEGIN:STANDARD
TZOFFSETFROM:-0500
TZOFFSETTO:-0600
TZNAME:CST
DTSTART:20251102T070000
END:STANDARD
BEGIN:DAYLIGHT
TZOFFSETFROM:-0600
TZOFFSETTO:-0500
TZNAME:CDT
DTSTART:20260308T080000
END:DAYLIGHT
BEGIN:STANDARD
TZOFFSETFROM:-0500
TZOFFSETTO:-0600
TZNAME:CST
DTSTART:20261101T070000
END:STANDARD
END:VTIMEZONE
BEGIN:VEVENT
DTSTART;VALUE=DATE:20250903
DTEND;VALUE=DATE:20250904
DTSTAMP:20260421T012846
CREATED:20250829T174411Z
LAST-MODIFIED:20250829T174411Z
UID:28048-1756857600-1756943999@www.wisconsin.edu
SUMMARY:Committee on Student Discipline & Other Student Appeals
DESCRIPTION:Meeting Notice: Committee on Student Discipline & Other Student Appeals (September 3\, 2025) pdf
URL:https://www.wisconsin.edu/regents/event/committee-on-student-discipline-other-student-appeals-24/
END:VEVENT
BEGIN:VEVENT
DTSTART;VALUE=DATE:20250918
DTEND;VALUE=DATE:20250920
DTSTAMP:20260421T012846
CREATED:20250915T185841Z
LAST-MODIFIED:20250915T185841Z
UID:28068-1758153600-1758326399@www.wisconsin.edu
SUMMARY:September 18-19\, 2025 Board of Regents Meeting
DESCRIPTION:September 18-19\, 2025 Board of Regents Meeting\nRegular meeting hosted in Madison & via Zoom Videoconference \nAgenda & materials\nSchedule of Events & Combined Agendas (September 18-19\, 2025) pdf\n \n\nMeeting Book: UW System Board of Regents Meeting (September 18-19\, 2025) pdf\n\nMeeting Book: Audit\, Risk\, and Compliance Committee (September 18\, 2025) pdf\n\nMeeting Book: Business & Finance Committee (September 18\, 2025) pdf\n\nMeeting Book: Capital Planning & Budget Committee (September 18\, 2025) pdf\n\nMeeting Book: Education Committee (September 18\, 2025) pdf\n\n\nVideoconference Information\nZoom Videoconference Information \n  \nVenue Security Notice\nProhibited Items \nThe following items are prohibited unless specifically authorized: \n\nWeapons of any kind\nAlcohol\, illegal substances\nLarge banners\, flags\, signs on sticks\, or poles\nNoise-making devices (whistles\, horns\, megaphones\, etc.)\nAny item deemed disruptive by venue staff or UW Police\n\nScreening \n\nWalkthrough metal detectors are required. Anyone wishing to attend the event and/or enter the venue area must be screened.\nAny backpack\, purse\, handbag\, tote\, briefcase\, camera bag\, laptop case\, or other carrying item is subject to search prior to entry.\nAny person who refuses screening and/or possesses a prohibited item will be denied entry to the venue.
URL:https://www.wisconsin.edu/regents/event/september-18-19-2025-board-of-regents-meeting/
END:VEVENT
BEGIN:VEVENT
DTSTART;VALUE=DATE:20250924
DTEND;VALUE=DATE:20250925
DTSTAMP:20260421T012846
CREATED:20250922T181311Z
LAST-MODIFIED:20250922T181311Z
UID:28080-1758672000-1758758399@www.wisconsin.edu
SUMMARY:Committee on Student Discipline & Other Student Appeals
DESCRIPTION:Meeting Notice: Committee on Student Discipline & Other Student Appeals (September 24\, 2025) pdf
URL:https://www.wisconsin.edu/regents/event/committee-on-student-discipline-other-student-appeals-25/
END:VEVENT
BEGIN:VEVENT
DTSTART;VALUE=DATE:20250929
DTEND;VALUE=DATE:20250930
DTSTAMP:20260421T012846
CREATED:20250925T205024Z
LAST-MODIFIED:20250925T205024Z
UID:28106-1759104000-1759190399@www.wisconsin.edu
SUMMARY:UW-Stevens Point Chancellor Search & Screen Committee
DESCRIPTION:Meeting Notice: UW-Stevens Point Chancellor Search & Screen Committee (September 29\, 2025) pdf
URL:https://www.wisconsin.edu/regents/event/uw-stevens-point-chancellor-search-screen-committee-4/
END:VEVENT
END:VCALENDAR