BEGIN:VCALENDAR
VERSION:2.0
PRODID:-//Board of Regents - ECPv6.15.17.1//NONSGML v1.0//EN
CALSCALE:GREGORIAN
METHOD:PUBLISH
X-ORIGINAL-URL:https://www.wisconsin.edu/regents
X-WR-CALDESC:Events for Board of Regents
REFRESH-INTERVAL;VALUE=DURATION:PT1H
X-Robots-Tag:noindex
X-PUBLISHED-TTL:PT1H
BEGIN:VTIMEZONE
TZID:America/Chicago
BEGIN:DAYLIGHT
TZOFFSETFROM:-0600
TZOFFSETTO:-0500
TZNAME:CDT
DTSTART:20190310T080000
END:DAYLIGHT
BEGIN:STANDARD
TZOFFSETFROM:-0500
TZOFFSETTO:-0600
TZNAME:CST
DTSTART:20191103T070000
END:STANDARD
BEGIN:DAYLIGHT
TZOFFSETFROM:-0600
TZOFFSETTO:-0500
TZNAME:CDT
DTSTART:20200308T080000
END:DAYLIGHT
BEGIN:STANDARD
TZOFFSETFROM:-0500
TZOFFSETTO:-0600
TZNAME:CST
DTSTART:20201101T070000
END:STANDARD
BEGIN:DAYLIGHT
TZOFFSETFROM:-0600
TZOFFSETTO:-0500
TZNAME:CDT
DTSTART:20210314T080000
END:DAYLIGHT
BEGIN:STANDARD
TZOFFSETFROM:-0500
TZOFFSETTO:-0600
TZNAME:CST
DTSTART:20211107T070000
END:STANDARD
END:VTIMEZONE
BEGIN:VEVENT
DTSTART;VALUE=DATE:20201007
DTEND;VALUE=DATE:20201008
DTSTAMP:20260420T090242
CREATED:20201005T150423Z
LAST-MODIFIED:20201005T150423Z
UID:22512-1602028800-1602115199@www.wisconsin.edu
SUMMARY:UW-Stevens Point Chancellor Search & Screen Committee and Special Regent Committee
DESCRIPTION:Meeting Notice: UW-Stevens Point Chancellor Search & Screen Committee and Special Regent Committee (October 7\, 2020) pdf
URL:https://www.wisconsin.edu/regents/event/uw-stevens-point-chancellor-search-screen-committee-and-special-regent-committee/
END:VEVENT
BEGIN:VEVENT
DTSTART;VALUE=DATE:20201008
DTEND;VALUE=DATE:20201009
DTSTAMP:20260420T090242
CREATED:20190610T161615Z
LAST-MODIFIED:20201005T203452Z
UID:20122-1602115200-1602201599@www.wisconsin.edu
SUMMARY:Board of Regents Meeting
DESCRIPTION:Regular meeting via Webex Videoconference \n  \nSchedule of Events & Combined Agendas (October 8\, 2020) pdf\n \n\nMeeting Book: Audit Committee (October 8\, 2020) pdf\n\nMeeting Book: Capital Planning & Budget Committee (October 8\, 2020) pdf\n\nMeeting Book: Research\, Economic Development & Innovation Committee (October 8\, 2020) pdf\n\nMeeting Book: Business & Finance Committee Meeting (October 8\, 2020) pdf\n\nMeeting Book: Education Committee (October 8\, 2020) pdf\n\nMeeting Book: UW System Board of Regents (October 8\, 2020) pdf\n\n\n  \nRegister for the Webex Videoconference \n\nInstructions on how to join the meeting will be emailed following registration.
URL:https://www.wisconsin.edu/regents/event/board-of-regents-meeting-37/
END:VEVENT
BEGIN:VEVENT
DTSTART;VALUE=DATE:20201015
DTEND;VALUE=DATE:20201016
DTSTAMP:20260420T090242
CREATED:20201013T181438Z
LAST-MODIFIED:20201013T181438Z
UID:22575-1602720000-1602806399@www.wisconsin.edu
SUMMARY:Special Regent Committee for the UW-Stevens Point Chancellor Search
DESCRIPTION:Meeting Notice: Special Regent Committee for the UW-Stevens Point Chancellor Search (October 15\, 2020) pdf
URL:https://www.wisconsin.edu/regents/event/special-regent-committee-for-the-uw-stevens-point-chancellor-search-3/
END:VEVENT
BEGIN:VEVENT
DTSTART;VALUE=DATE:20201020
DTEND;VALUE=DATE:20201021
DTSTAMP:20260420T090242
CREATED:20201019T150359Z
LAST-MODIFIED:20201019T150359Z
UID:22581-1603152000-1603238399@www.wisconsin.edu
SUMMARY:Special Board of Regents Meeting
DESCRIPTION:Meeting Notice: Special Board of Regents Meeting (October 20\, 2020) pdf\n\n  \nRegister for the Webex Videoconference \n\nInstructions on how to join the meeting will be emailed following registration.
URL:https://www.wisconsin.edu/regents/event/special-board-of-regents-meeting-10/
END:VEVENT
END:VCALENDAR