BEGIN:VCALENDAR
VERSION:2.0
PRODID:-//Board of Regents - ECPv6.15.17.1//NONSGML v1.0//EN
CALSCALE:GREGORIAN
METHOD:PUBLISH
X-WR-CALNAME:Board of Regents
X-ORIGINAL-URL:https://www.wisconsin.edu/regents
X-WR-CALDESC:Events for Board of Regents
REFRESH-INTERVAL;VALUE=DURATION:PT1H
X-Robots-Tag:noindex
X-PUBLISHED-TTL:PT1H
BEGIN:VTIMEZONE
TZID:America/Chicago
BEGIN:DAYLIGHT
TZOFFSETFROM:-0600
TZOFFSETTO:-0500
TZNAME:CDT
DTSTART:20190310T080000
END:DAYLIGHT
BEGIN:STANDARD
TZOFFSETFROM:-0500
TZOFFSETTO:-0600
TZNAME:CST
DTSTART:20191103T070000
END:STANDARD
BEGIN:DAYLIGHT
TZOFFSETFROM:-0600
TZOFFSETTO:-0500
TZNAME:CDT
DTSTART:20200308T080000
END:DAYLIGHT
BEGIN:STANDARD
TZOFFSETFROM:-0500
TZOFFSETTO:-0600
TZNAME:CST
DTSTART:20201101T070000
END:STANDARD
BEGIN:DAYLIGHT
TZOFFSETFROM:-0600
TZOFFSETTO:-0500
TZNAME:CDT
DTSTART:20210314T080000
END:DAYLIGHT
BEGIN:STANDARD
TZOFFSETFROM:-0500
TZOFFSETTO:-0600
TZNAME:CST
DTSTART:20211107T070000
END:STANDARD
END:VTIMEZONE
BEGIN:VEVENT
DTSTART;VALUE=DATE:20200902
DTEND;VALUE=DATE:20200903
DTSTAMP:20260420T142115
CREATED:20200831T181533Z
LAST-MODIFIED:20200831T181533Z
UID:22402-1599004800-1599091199@www.wisconsin.edu
SUMMARY:Special Regent Committee for the UW-Stevens Point Chancellor Search
DESCRIPTION:Meeting Notice: Special Regent Committee for the UW-Stevens Point Chancellor Search (September 2\, 2020) pdf
URL:https://www.wisconsin.edu/regents/event/special-regent-committee-for-the-uw-stevens-point-chancellor-search-2/
END:VEVENT
BEGIN:VEVENT
DTSTART;VALUE=DATE:20200909
DTEND;VALUE=DATE:20200910
DTSTAMP:20260420T142115
CREATED:20200902T214700Z
LAST-MODIFIED:20200902T214700Z
UID:22414-1599609600-1599695999@www.wisconsin.edu
SUMMARY:Search & Screen Committee for the UW-Stevens Point Chancellor Search
DESCRIPTION:Meeting Notice: Search & Screen Committee for the UW-Stevens Point Chancellor Search (September 9\, 2020) pdf
URL:https://www.wisconsin.edu/regents/event/search-screen-committee-for-the-uw-stevens-point-chancellor-search/
END:VEVENT
BEGIN:VEVENT
DTSTART;VALUE=DATE:20200910
DTEND;VALUE=DATE:20200911
DTSTAMP:20260420T142115
CREATED:20200908T214449Z
LAST-MODIFIED:20200908T215056Z
UID:22421-1599696000-1599782399@www.wisconsin.edu
SUMMARY:Executive Committee
DESCRIPTION:Meeting Book: Executive Committee (September 10\, 2020) pdf\n\n  \nRegister for Webex Videoconference \n\nInformation on how to join the meeting will be emailed to you following registration.
URL:https://www.wisconsin.edu/regents/event/executive-committee-26/
END:VEVENT
BEGIN:VEVENT
DTSTART;VALUE=DATE:20200925
DTEND;VALUE=DATE:20200926
DTSTAMP:20260420T142115
CREATED:20200911T185317Z
LAST-MODIFIED:20200911T185317Z
UID:22466-1600992000-1601078399@www.wisconsin.edu
SUMMARY:Public Hearing on Chapter UWS 4\, 7\, 11 and 17 Emergency Rules
DESCRIPTION:Meeting Notice: Public Hearing on UWS 4\, 7\, 11\, and 17 Emergency Rules (September 25\, 2020) pdf
URL:https://www.wisconsin.edu/regents/event/public-hearing-on-chapter-uws-4-7-11-and-17-emergency-rules/
END:VEVENT
BEGIN:VEVENT
DTSTART;VALUE=DATE:20200925
DTEND;VALUE=DATE:20200926
DTSTAMP:20260420T142115
CREATED:20200924T190528Z
LAST-MODIFIED:20200924T190528Z
UID:22481-1600992000-1601078399@www.wisconsin.edu
SUMMARY:Special Board of Regents Meeting
DESCRIPTION:Meeting Notice: Special Board of Regents Meeting (September 25\, 2020) pdf\n\n  \nRegister for the Webex Videoconference \n\nInstructions on how to join the meeting will be emailed following registration.
URL:https://www.wisconsin.edu/regents/event/special-board-of-regents-meeting-9/
END:VEVENT
END:VCALENDAR