BEGIN:VCALENDAR
VERSION:2.0
PRODID:-//Board of Regents - ECPv6.15.17.1//NONSGML v1.0//EN
CALSCALE:GREGORIAN
METHOD:PUBLISH
X-WR-CALNAME:Board of Regents
X-ORIGINAL-URL:https://www.wisconsin.edu/regents
X-WR-CALDESC:Events for Board of Regents
REFRESH-INTERVAL;VALUE=DURATION:PT1H
X-Robots-Tag:noindex
X-PUBLISHED-TTL:PT1H
BEGIN:VTIMEZONE
TZID:America/Chicago
BEGIN:DAYLIGHT
TZOFFSETFROM:-0600
TZOFFSETTO:-0500
TZNAME:CDT
DTSTART:20190310T080000
END:DAYLIGHT
BEGIN:STANDARD
TZOFFSETFROM:-0500
TZOFFSETTO:-0600
TZNAME:CST
DTSTART:20191103T070000
END:STANDARD
BEGIN:DAYLIGHT
TZOFFSETFROM:-0600
TZOFFSETTO:-0500
TZNAME:CDT
DTSTART:20200308T080000
END:DAYLIGHT
BEGIN:STANDARD
TZOFFSETFROM:-0500
TZOFFSETTO:-0600
TZNAME:CST
DTSTART:20201101T070000
END:STANDARD
BEGIN:DAYLIGHT
TZOFFSETFROM:-0600
TZOFFSETTO:-0500
TZNAME:CDT
DTSTART:20210314T080000
END:DAYLIGHT
BEGIN:STANDARD
TZOFFSETFROM:-0500
TZOFFSETTO:-0600
TZNAME:CST
DTSTART:20211107T070000
END:STANDARD
END:VTIMEZONE
BEGIN:VEVENT
DTSTART;VALUE=DATE:20200805
DTEND;VALUE=DATE:20200806
DTSTAMP:20260420T160528
CREATED:20200803T154034Z
LAST-MODIFIED:20200803T212520Z
UID:22118-1596585600-1596671999@www.wisconsin.edu
SUMMARY:Special Board of Regents Meeting
DESCRIPTION:Meeting Notice: Special Board of Regents Meeting (August 5\, 2020) pdf\n\n\nMeeting Book: Board of Regents Meeting (August 5\, 2020) pdf\n\n\nRegister for the Webex Videoconference  \n\nInstructions for joining the meeting will be emailed following registration.\nThe meeting is scheduled to begin at 12:30 p.m.\n\n  \n 
URL:https://www.wisconsin.edu/regents/event/special-board-of-regents-meeting-8/
END:VEVENT
BEGIN:VEVENT
DTSTART;VALUE=DATE:20200811
DTEND;VALUE=DATE:20200812
DTSTAMP:20260420T160528
CREATED:20200810T141540Z
LAST-MODIFIED:20200810T141540Z
UID:22148-1597104000-1597190399@www.wisconsin.edu
SUMMARY:UW-Stevens Point Chancellor Search & Screen Committee
DESCRIPTION:Meeting Notice: UW-Stevens Point Chancellor Search & Screen Committee (August 11\, 2020) pdf
URL:https://www.wisconsin.edu/regents/event/uw-stevens-point-chancellor-search-screen-committee-3/
END:VEVENT
BEGIN:VEVENT
DTSTART;VALUE=DATE:20200820
DTEND;VALUE=DATE:20200821
DTSTAMP:20260420T160528
CREATED:20190610T161539Z
LAST-MODIFIED:20200818T182939Z
UID:20120-1597881600-1597967999@www.wisconsin.edu
SUMMARY:Board of Regents Meeting
DESCRIPTION:Meeting Schedule & Combined Agendas (August 20\, 2020) pdf\n \n\nBusiness & Finance Committee Meeting Book (August 20\, 2020) pdf\n\nEducation Committee Meeting Book (August 20\, 2020) pdf\n\nAudit Committee Meeting Book (August 20\, 2020) pdf\n\nCapital Planning & Budget Committee Meeting Book (August 20\, 2020) pdf\n\nResearch\, Economic Development\, & Innovation Committee Meeting Book (August 20\, 2020) pdf\n\nBoard of Regents Meeting Book (August 20\, 2020) pdf\n\n\n  \nRegister for the Webex Videoconferences \n\nAfter registering you will receive a confirmation email with instructions for joining the meeting(s).
URL:https://www.wisconsin.edu/regents/event/board-of-regents-meeting-36/
END:VEVENT
BEGIN:VEVENT
DTSTART;VALUE=DATE:20200825
DTEND;VALUE=DATE:20200827
DTSTAMP:20260420T160528
CREATED:20200824T143434Z
LAST-MODIFIED:20200824T143434Z
UID:22288-1598313600-1598486399@www.wisconsin.edu
SUMMARY:UW-Stevens Point Chancellor Search & Screen Committee and Special Regent Committee for the UW-Stevens Point Chancellor Search
DESCRIPTION:Meeting Notice: UW-Stevens Point Chancellor Search & Screen Committee and Special Regent Committee for the UW-Stevens Point Chancellor Search (August 25-26\, 2020) pdf
URL:https://www.wisconsin.edu/regents/event/uw-stevens-point-chancellor-search-screen-committee-and-special-regent-committee-for-the-uw-stevens-point-chancellor-search/
END:VEVENT
END:VCALENDAR