BEGIN:VCALENDAR
VERSION:2.0
PRODID:-//Board of Regents - ECPv6.15.17.1//NONSGML v1.0//EN
CALSCALE:GREGORIAN
METHOD:PUBLISH
X-WR-CALNAME:Board of Regents
X-ORIGINAL-URL:https://www.wisconsin.edu/regents
X-WR-CALDESC:Events for Board of Regents
REFRESH-INTERVAL;VALUE=DURATION:PT1H
X-Robots-Tag:noindex
X-PUBLISHED-TTL:PT1H
BEGIN:VTIMEZONE
TZID:America/Chicago
BEGIN:DAYLIGHT
TZOFFSETFROM:-0600
TZOFFSETTO:-0500
TZNAME:CDT
DTSTART:20190310T080000
END:DAYLIGHT
BEGIN:STANDARD
TZOFFSETFROM:-0500
TZOFFSETTO:-0600
TZNAME:CST
DTSTART:20191103T070000
END:STANDARD
BEGIN:DAYLIGHT
TZOFFSETFROM:-0600
TZOFFSETTO:-0500
TZNAME:CDT
DTSTART:20200308T080000
END:DAYLIGHT
BEGIN:STANDARD
TZOFFSETFROM:-0500
TZOFFSETTO:-0600
TZNAME:CST
DTSTART:20201101T070000
END:STANDARD
BEGIN:DAYLIGHT
TZOFFSETFROM:-0600
TZOFFSETTO:-0500
TZNAME:CDT
DTSTART:20210314T080000
END:DAYLIGHT
BEGIN:STANDARD
TZOFFSETFROM:-0500
TZOFFSETTO:-0600
TZNAME:CST
DTSTART:20211107T070000
END:STANDARD
END:VTIMEZONE
BEGIN:VEVENT
DTSTART;VALUE=DATE:20200304
DTEND;VALUE=DATE:20200305
DTSTAMP:20260421T082956
CREATED:20200224T183210Z
LAST-MODIFIED:20200224T183210Z
UID:21298-1583280000-1583366399@www.wisconsin.edu
SUMMARY:UW-Green Bay Chancellor Search & Screen Committee
DESCRIPTION:Meeting Notice: UW-Green Bay Chancellor Search & Screen Committee (March 4\, 2020) pdf
URL:https://www.wisconsin.edu/regents/event/uw-green-bay-chancellor-search-screen-committee-7/
END:VEVENT
BEGIN:VEVENT
DTSTART;VALUE=DATE:20200305
DTEND;VALUE=DATE:20200306
DTSTAMP:20260421T082956
CREATED:20200217T195602Z
LAST-MODIFIED:20200217T195602Z
UID:21238-1583366400-1583452799@www.wisconsin.edu
SUMMARY:Public Hearing on Proposed Revisions to Chapter UWS 17\, Wis. Admin. Code
DESCRIPTION:Meeting Notice: Public Hearing on Revisions to Chapter UWS 17\, Wis. Admin. Code (March 5\, 2020) pdf
URL:https://www.wisconsin.edu/regents/event/public-hearing-on-proposed-revisions-to-chapter-uws-17-wis-admin-code/
END:VEVENT
BEGIN:VEVENT
DTSTART;VALUE=DATE:20200305
DTEND;VALUE=DATE:20200306
DTSTAMP:20260421T082956
CREATED:20200217T195707Z
LAST-MODIFIED:20200217T195707Z
UID:21242-1583366400-1583452799@www.wisconsin.edu
SUMMARY:Public Hearing on Proposed Revisions to Chapter UWS 18\, Wis. Admin. Code
DESCRIPTION:Meeting Notice: Public Hearing on Revisions to Chapter UWS 18\, Wis. Admin. Code (March 5\, 2020) pdf
URL:https://www.wisconsin.edu/regents/event/public-hearing-on-proposed-revisions-to-chapter-uws-18-wis-admin-code/
END:VEVENT
BEGIN:VEVENT
DTSTART;VALUE=DATE:20200306
DTEND;VALUE=DATE:20200307
DTSTAMP:20260421T082956
CREATED:20200224T183254Z
LAST-MODIFIED:20200224T183254Z
UID:21300-1583452800-1583539199@www.wisconsin.edu
SUMMARY:UW-Green Bay Chancellor Search & Screen Committee
DESCRIPTION:Meeting Notice: UW-Green Bay Chancellor Search & Screen Committee (March 6\, 2020) pdf
URL:https://www.wisconsin.edu/regents/event/uw-green-bay-chancellor-search-screen-committee-8/
END:VEVENT
BEGIN:VEVENT
DTSTART;VALUE=DATE:20200312
DTEND;VALUE=DATE:20200313
DTSTAMP:20260421T082956
CREATED:20200311T192221Z
LAST-MODIFIED:20200311T192221Z
UID:21359-1583971200-1584057599@www.wisconsin.edu
SUMMARY:UW-Green Bay Chancellor Search & Screen Committee
DESCRIPTION:Meeting Notice: UW-Green Bay Chancellor Search & Screen Committee (March 12\, 2020) - CANCELLED pdf
URL:https://www.wisconsin.edu/regents/event/uw-green-bay-chancellor-search-screen-committee-9/
END:VEVENT
BEGIN:VEVENT
DTSTART;VALUE=DATE:20200317
DTEND;VALUE=DATE:20200318
DTSTAMP:20260421T082956
CREATED:20200311T192312Z
LAST-MODIFIED:20200311T192312Z
UID:21361-1584403200-1584489599@www.wisconsin.edu
SUMMARY:UW-Green Bay Chancellor Search & Screen Committee and Special Regent Committee
DESCRIPTION:Meeting Notice: UW-Green Bay Chancellor Search & Screen Committee and Special Regent Committee (March 17\, 2020) pdf
URL:https://www.wisconsin.edu/regents/event/uw-green-bay-chancellor-search-screen-committee-and-special-regent-committee-2/
END:VEVENT
BEGIN:VEVENT
DTSTART;VALUE=DATE:20200320
DTEND;VALUE=DATE:20200321
DTSTAMP:20260421T082956
CREATED:20200319T181049Z
LAST-MODIFIED:20200319T181049Z
UID:21396-1584662400-1584748799@www.wisconsin.edu
SUMMARY:Committee on Student Discipline & Other Student Appeals
DESCRIPTION:Meeting Notice: Committee on Student Discipline & Other Student Appeals (March 20\, 2020) pdf
URL:https://www.wisconsin.edu/regents/event/committee-on-student-discipline-other-student-appeals-6/
END:VEVENT
BEGIN:VEVENT
DTSTART;VALUE=DATE:20200324
DTEND;VALUE=DATE:20200325
DTSTAMP:20260421T082956
CREATED:20200319T181115Z
LAST-MODIFIED:20200319T181115Z
UID:21398-1585008000-1585094399@www.wisconsin.edu
SUMMARY:UW System Presidential Search Committee
DESCRIPTION:Meeting Notice: UW System Presidential Search Committee (March 24\, 2020) pdf
URL:https://www.wisconsin.edu/regents/event/uw-system-presidential-search-committee-4/
END:VEVENT
BEGIN:VEVENT
DTSTART;VALUE=DATE:20200326
DTEND;VALUE=DATE:20200327
DTSTAMP:20260421T082956
CREATED:20200319T181148Z
LAST-MODIFIED:20200319T181148Z
UID:21400-1585180800-1585267199@www.wisconsin.edu
SUMMARY:Special Regent Committee for the UW-Green Bay Chancellor Search
DESCRIPTION:Meeting Notice: Special Regent Committee for the UW-Green Bay Chancellor Search (March 26\, 2020) pdf
URL:https://www.wisconsin.edu/regents/event/special-regent-committee-for-the-uw-green-bay-chancellor-search-2/
END:VEVENT
END:VCALENDAR