BEGIN:VCALENDAR
VERSION:2.0
PRODID:-//Board of Regents - ECPv6.15.17.1//NONSGML v1.0//EN
CALSCALE:GREGORIAN
METHOD:PUBLISH
X-WR-CALNAME:Board of Regents
X-ORIGINAL-URL:https://www.wisconsin.edu/regents
X-WR-CALDESC:Events for Board of Regents
REFRESH-INTERVAL;VALUE=DURATION:PT1H
X-Robots-Tag:noindex
X-PUBLISHED-TTL:PT1H
BEGIN:VTIMEZONE
TZID:America/Chicago
BEGIN:DAYLIGHT
TZOFFSETFROM:-0600
TZOFFSETTO:-0500
TZNAME:CDT
DTSTART:20180311T080000
END:DAYLIGHT
BEGIN:STANDARD
TZOFFSETFROM:-0500
TZOFFSETTO:-0600
TZNAME:CST
DTSTART:20181104T070000
END:STANDARD
BEGIN:DAYLIGHT
TZOFFSETFROM:-0600
TZOFFSETTO:-0500
TZNAME:CDT
DTSTART:20190310T080000
END:DAYLIGHT
BEGIN:STANDARD
TZOFFSETFROM:-0500
TZOFFSETTO:-0600
TZNAME:CST
DTSTART:20191103T070000
END:STANDARD
BEGIN:DAYLIGHT
TZOFFSETFROM:-0600
TZOFFSETTO:-0500
TZNAME:CDT
DTSTART:20200308T080000
END:DAYLIGHT
BEGIN:STANDARD
TZOFFSETFROM:-0500
TZOFFSETTO:-0600
TZNAME:CST
DTSTART:20201101T070000
END:STANDARD
END:VTIMEZONE
BEGIN:VEVENT
DTSTART;VALUE=DATE:20191001
DTEND;VALUE=DATE:20191002
DTSTAMP:20260422T005045
CREATED:20190924T223022Z
LAST-MODIFIED:20190924T223022Z
UID:20606-1569888000-1569974399@www.wisconsin.edu
SUMMARY:UW-Stout Chancellor Search & Screen Committee
DESCRIPTION:Meeting Notice: UW-Stout Chancellor Search & Screen Committee (October 1\, 2019) pdf
URL:https://www.wisconsin.edu/regents/event/uw-stout-chancellor-search-screen-committee-4/
END:VEVENT
BEGIN:VEVENT
DTSTART;VALUE=DATE:20191002
DTEND;VALUE=DATE:20191003
DTSTAMP:20260422T005045
CREATED:20190924T223055Z
LAST-MODIFIED:20190924T223055Z
UID:20608-1569974400-1570060799@www.wisconsin.edu
SUMMARY:UW-Green Bay Chancellor Search & Screen Committee Listening Sessions
DESCRIPTION:Meeting Notice: UW-Green Bay Chancellor Search & Screen Committee Listening Sessions (October 2\, 2019) pdf
URL:https://www.wisconsin.edu/regents/event/uw-green-bay-chancellor-search-screen-committee-listening-sessions/
END:VEVENT
BEGIN:VEVENT
DTSTART;VALUE=DATE:20191010
DTEND;VALUE=DATE:20191012
DTSTAMP:20260422T005045
CREATED:20180223T211150Z
LAST-MODIFIED:20191007T180418Z
UID:18472-1570665600-1570838399@www.wisconsin.edu
SUMMARY:Board of Regents Meeting
DESCRIPTION:Schedule of Events - October 2019 Board of Regents Meeting pdf\n \n\nCommittee Materials:\n\nBusiness & Finance Committee Materials (October 10\, 2019) pdf\n\nEducation Committee Materials (October 10\, 2019) pdf\n\nAudit Committee Materials (October 10\, 2019) pdf\n\nCapital Planning & Budget Committee Materials (October 10\, 2019) pdf\n\nResearch\, Economic Development\, & Innovation Committee Materials (October 10\, 2019) pdf\n\n\n\nFull Board Materials:\n\nI. All Regents (Thursday) Materials (October 10\, 2019) pdf\n\nII. All Regents (Friday) Materials (October 11\, 2019) pdf\n\n\n\nFor Reference:\n\nBoard of Regents Outline Agenda (October 10-11\, 2019) pdf\n\n\nBoard of Regents Meeting Calendar (2019-2020) pdf\n\n\n\n\n  \nRegents meeting live webcast:  Thursday\, October 10\, 2019\, from 1:15 p.m. to approximately 2:45 p.m. and Friday\, October 11\, 2019\, from 9:00 a.m. to approximately 11:15 a.m. \n  \nPersons with disabilities requesting an accommodation to attend are asked to contact Jess Lathrop (jlathrop@uwsa.edu) in advance of the meeting.
URL:https://www.wisconsin.edu/regents/event/board-of-regents-meeting-30/
LOCATION:UW-Superior
END:VEVENT
BEGIN:VEVENT
DTSTART;VALUE=DATE:20191014
DTEND;VALUE=DATE:20191015
DTSTAMP:20260422T005045
CREATED:20191009T135422Z
LAST-MODIFIED:20191009T135422Z
UID:20652-1571011200-1571097599@www.wisconsin.edu
SUMMARY:UW-Green Bay Chancellor Search & Screen Committee
DESCRIPTION:Meeting Notice: UW-Green Bay Search & Screen Committee (October 14\, 2019) pdf
URL:https://www.wisconsin.edu/regents/event/uw-green-bay-chancellor-search-screen-committee/
END:VEVENT
BEGIN:VEVENT
DTSTART;VALUE=DATE:20191016
DTEND;VALUE=DATE:20191017
DTSTAMP:20260422T005045
CREATED:20191009T135502Z
LAST-MODIFIED:20191009T135502Z
UID:20663-1571184000-1571270399@www.wisconsin.edu
SUMMARY:Special Regent Committee for the UW-Green Bay Chancellor Search
DESCRIPTION:Meeting Notice: UW-Green Bay Special Regent Committee (October 16\, 2019) pdf
URL:https://www.wisconsin.edu/regents/event/special-regent-committee-for-the-uw-green-bay-chancellor-search/
END:VEVENT
BEGIN:VEVENT
DTSTART;VALUE=DATE:20191018
DTEND;VALUE=DATE:20191021
DTSTAMP:20260422T005045
CREATED:20191017T133010Z
LAST-MODIFIED:20191017T133010Z
UID:20683-1571356800-1571615999@www.wisconsin.edu
SUMMARY:UW-Stout Chancellor Search & Screen Committee
DESCRIPTION:Meeting Notice: UW-Stout Chancellor Search & Screen Committee and Special Regent Committee (October 18-20\, 2019) pdf
URL:https://www.wisconsin.edu/regents/event/uw-stout-chancellor-search-screen-committee-5/
END:VEVENT
BEGIN:VEVENT
DTSTART;VALUE=DATE:20191020
DTEND;VALUE=DATE:20191021
DTSTAMP:20260422T005045
CREATED:20191017T132951Z
LAST-MODIFIED:20191017T132951Z
UID:20685-1571529600-1571615999@www.wisconsin.edu
SUMMARY:Special Regent Committee for the UW-Stout Chancellor Search
DESCRIPTION:Meeting Notice: UW-Stout Chancellor Search & Screen Committee and Special Regent Committee (October 18-20\, 2019) pdf
URL:https://www.wisconsin.edu/regents/event/special-regent-committee-for-the-uw-stout-chancellor-search-2/
END:VEVENT
BEGIN:VEVENT
DTSTART;VALUE=DATE:20191023
DTEND;VALUE=DATE:20191024
DTSTAMP:20260422T005045
CREATED:20191021T140957Z
LAST-MODIFIED:20191021T140957Z
UID:20714-1571788800-1571875199@www.wisconsin.edu
SUMMARY:Committee on Student Discipline & Other Student Appeals
DESCRIPTION:Meeting Notice: Committee on Student Discipline & Other Student Appeals (October 23\, 2019) pdf
URL:https://www.wisconsin.edu/regents/event/committee-on-student-discipline-other-student-appeals-4/
END:VEVENT
END:VCALENDAR