BEGIN:VCALENDAR
VERSION:2.0
PRODID:-//Board of Regents - ECPv6.15.17.1//NONSGML v1.0//EN
CALSCALE:GREGORIAN
METHOD:PUBLISH
X-WR-CALNAME:Board of Regents
X-ORIGINAL-URL:https://www.wisconsin.edu/regents
X-WR-CALDESC:Events for Board of Regents
REFRESH-INTERVAL;VALUE=DURATION:PT1H
X-Robots-Tag:noindex
X-PUBLISHED-TTL:PT1H
BEGIN:VTIMEZONE
TZID:America/Chicago
BEGIN:DAYLIGHT
TZOFFSETFROM:-0600
TZOFFSETTO:-0500
TZNAME:CDT
DTSTART:20180311T080000
END:DAYLIGHT
BEGIN:STANDARD
TZOFFSETFROM:-0500
TZOFFSETTO:-0600
TZNAME:CST
DTSTART:20181104T070000
END:STANDARD
BEGIN:DAYLIGHT
TZOFFSETFROM:-0600
TZOFFSETTO:-0500
TZNAME:CDT
DTSTART:20190310T080000
END:DAYLIGHT
BEGIN:STANDARD
TZOFFSETFROM:-0500
TZOFFSETTO:-0600
TZNAME:CST
DTSTART:20191103T070000
END:STANDARD
BEGIN:DAYLIGHT
TZOFFSETFROM:-0600
TZOFFSETTO:-0500
TZNAME:CDT
DTSTART:20200308T080000
END:DAYLIGHT
BEGIN:STANDARD
TZOFFSETFROM:-0500
TZOFFSETTO:-0600
TZNAME:CST
DTSTART:20201101T070000
END:STANDARD
END:VTIMEZONE
BEGIN:VEVENT
DTSTART;VALUE=DATE:20190801
DTEND;VALUE=DATE:20190802
DTSTAMP:20260422T053224
CREATED:20190730T131119Z
LAST-MODIFIED:20190730T151341Z
UID:20301-1564617600-1564703999@www.wisconsin.edu
SUMMARY:Special Board of Regents Meeting
DESCRIPTION:Meeting Notice: Special Board of Regents Meeting (August 1\, 2019) pdf\n\nBoard of Regents Meeting Materials (August 1\, 2019) pdf
URL:https://www.wisconsin.edu/regents/event/special-board-of-regents-meeting-2/
END:VEVENT
BEGIN:VEVENT
DTSTART;VALUE=DATE:20190813
DTEND;VALUE=DATE:20190814
DTSTAMP:20260422T053224
CREATED:20190730T131248Z
LAST-MODIFIED:20190730T132134Z
UID:20303-1565654400-1565740799@www.wisconsin.edu
SUMMARY:Preliminary Public Hearing on Proposed Scope Statement for Revisions to Chapter UWS 17\, Wis. Adm. Code
DESCRIPTION:Meeting Notice: Preliminary Public Hearing on Proposed Scope Statement for Revisions to Chapter UWS 17\, Wis. Adm. Code (August 13\, 2019) pdf\n\n  \nThe Board of Regents will accept written comments until August 20\, 2019. Comments may be submitted: (1) on the web at https://www.wisconsin.edu/regents/public-comment-form/ or https://docs.legis.wisconsin.gov/code/scope_statements/all/071_18; (2) by email to board@uwsa.edu; (3) at the public hearing; or (4) by mail to Office of the Board of Regents\, 1860 Van Hise Hall\, 1220 Linden Drive\, Madison\, Wisconsin 53706.
URL:https://www.wisconsin.edu/regents/event/public-hearing-on-proposed-scope-statement-for-revisions-to-chapter-uws-17-wis-adm-code/
END:VEVENT
BEGIN:VEVENT
DTSTART;VALUE=DATE:20190816
DTEND;VALUE=DATE:20190817
DTSTAMP:20260422T053224
CREATED:20190814T160757Z
LAST-MODIFIED:20190814T160757Z
UID:20358-1565913600-1565999999@www.wisconsin.edu
SUMMARY:Audit Committee
DESCRIPTION:Meeting Notice: Board of Regents Audit Committee (August 16\, 2019) pdf\n\nAudit Committee Materials (August 16\, 2019) pdf
URL:https://www.wisconsin.edu/regents/event/audit-committee-3/
END:VEVENT
END:VCALENDAR