BEGIN:VCALENDAR
VERSION:2.0
PRODID:-//Board of Regents - ECPv6.15.17.1//NONSGML v1.0//EN
CALSCALE:GREGORIAN
METHOD:PUBLISH
X-WR-CALNAME:Board of Regents
X-ORIGINAL-URL:https://www.wisconsin.edu/regents
X-WR-CALDESC:Events for Board of Regents
REFRESH-INTERVAL;VALUE=DURATION:PT1H
X-Robots-Tag:noindex
X-PUBLISHED-TTL:PT1H
BEGIN:VTIMEZONE
TZID:America/Chicago
BEGIN:DAYLIGHT
TZOFFSETFROM:-0600
TZOFFSETTO:-0500
TZNAME:CDT
DTSTART:20250309T080000
END:DAYLIGHT
BEGIN:STANDARD
TZOFFSETFROM:-0500
TZOFFSETTO:-0600
TZNAME:CST
DTSTART:20251102T070000
END:STANDARD
BEGIN:DAYLIGHT
TZOFFSETFROM:-0600
TZOFFSETTO:-0500
TZNAME:CDT
DTSTART:20260308T080000
END:DAYLIGHT
BEGIN:STANDARD
TZOFFSETFROM:-0500
TZOFFSETTO:-0600
TZNAME:CST
DTSTART:20261101T070000
END:STANDARD
BEGIN:DAYLIGHT
TZOFFSETFROM:-0600
TZOFFSETTO:-0500
TZNAME:CDT
DTSTART:20270314T080000
END:DAYLIGHT
BEGIN:STANDARD
TZOFFSETFROM:-0500
TZOFFSETTO:-0600
TZNAME:CST
DTSTART:20271107T070000
END:STANDARD
END:VTIMEZONE
BEGIN:VEVENT
DTSTART;VALUE=DATE:20260420
DTEND;VALUE=DATE:20260421
DTSTAMP:20260420T053501
CREATED:20260417T180111Z
LAST-MODIFIED:20260417T180111Z
UID:28535-1776643200-1776729599@www.wisconsin.edu
SUMMARY:April 20\, 2026 Board of Regents Meeting
DESCRIPTION:April 20\, 2026 Board of Regents Meeting\nAlternate Special meeting via Zoom Videoconference \nAgenda & materials\nSchedule of Events & Combined Agendas (April 20\, 2026) pdf\n \n\nMeeting Book: UW System Board of Regents Meeting (April 20\, 2026) pdf\n\nMeeting Book: Business & Finance Committee (April 20\, 2026) pdf\n\nMeeting Book: Education Committee (April 20\, 2026) pdf\n\nMeeting Book: Audit\, Risk\, and Compliance Committee (April 20\, 2026) pdf\n\nMeeting Book: Capital Planning & Budget Committee (April 20\, 2026) pdf\n\n\nVideoconference Information\nZoom Videoconference Information
URL:https://www.wisconsin.edu/regents/event/april-20-2026-board-of-regents-meeting/
END:VEVENT
END:VCALENDAR